Workbook
Name School_list: '[1]New ISB'!$C$6:$C$661

Sheet PE and Sport 23-24
A10: 1) Carry forward from 2023/24Financial Year (Black is overspend, Red is underspend).
A11: 2) Balance of Actual Income received and Expenditure April to July 2024. Taken from School Departmental Report or Prime school submitted data.
A12: 3) August/September 2024 adjustment from review of transactions processed August/September 2024 relating to 2023/24 academic year. Taken from School Departmental Report or Prime school submitted data
A13: 4) Revised balance April to August 2024 (3) minus September adjustment (4). Black is overspend and Red is underspend.
A15: Please enter your school's LAEstab (925 number) in cell A17, and the PE and Sport mini closedown data will be populated
A17: 9252084 | B17: =IF(A17="","",INDEX(Schools!C:C,MATCH(A17,Schools!B:B,0))) -> South View Community Primary School
C19: 1 | D19: 2 | E19: 3 | F19: 4
C20: Carry Forward April 2024 | D20: Actuals - April to July 2024 | E20: August to September 24 Invoices plus back pay | F20: Revised Balance
C21: =-VLOOKUP($A$17,Summary!$B$2:$L$170,5,FALSE) -> -6145 | D21: =VLOOKUP($A$17,Summary!$B$2:$L$170,4,FALSE) -> -8129 | E21: =VLOOKUP($A$17,Summary!$B$2:$O$170,10,FALSE)+VLOOKUP($A$17,Summary!$B$2:$O$169,12,FALSE) -> 14273.91 | F21: =VLOOKUP($A$17,Summary!$B$2:$O$170,14,FALSE) -> -0.09
G23: Debit (Black) overspend to be journalled to Budget Share
G24: Credit (Red) underspend to be recovered.

Sheet Summary
C1: Costc | D1: Costc(T) | E1: Actuals P1-P4 | F1: Revisions | G1: Variance | H1: Under Spends to check | I1: Overspends to journal | K1: Aug/Sept invoices relating to 23/24 | M1: April - July Back Pay | O1: Adjusted Under / overspend 23/24 | Q1: Adjusted Overspend 23/24 | S1: Overspend Back to Budget Share | U1: Underspend Clawback | W1: TR Check | X1: TR Notes for MN review
B2: =VLOOKUP(C2,Schools!$A$2:$C$175,2,FALSE) -> 9252142 | C2: S200BA | D2: Alford Primary PE & Sports Grant | E2: 1597.91 | F2: 4618 | G2: =-F2+E2 -> -3020.09 | H2: =IF(G2<0,G2,0) -> -3020.09 | I2: =IF(G2>0,G2,0) -> 0 | K2: 5098.96 | M2: 206.82 | O2: =G2+K2+M2 -> 2285.69 | Q2: =I2+O2 -> 2285.69 | S2: =IF(O2>=0,O2,0) -> 2285.69 | U2: =IF(O2<=0,O2,0) -> 0 | W2: a | X2: Staffing costs in August where they are overtime and oncosts and Apprenticeship levy relating to July should be included Pcard why include costs for one item on the 27/08/2024 and not the other | Y2: Corrected staffing. 2 Pcard entries related to August and September 24 transaction, one for July.
B3: =VLOOKUP(C3,Schools!$A$2:$C$175,2,FALSE) -> 9253000 | C3: S201BA | D3: Allington with Sedgebrook CE Primary PE & Sports Grant | E3: 411 | F3: 1583 | G3: =-F3+E3 -> -1172 | H3: =IF(G3<0,G3,0) -> -1172 | I3: =IF(G3>0,G3,0) -> 0 | K3: 1604.5 | M3: 0 | O3: =G3+K3+M3 -> 432.5 | Q3: =I3+O3 -> 432.5 | S3: =IF(O3>=0,O3,0) -> 432.5 | U3: =IF(O3<=0,O3,0) -> 0 | W3: a
B4: =VLOOKUP(C4,Schools!$A$2:$C$175,2,FALSE) -> 9253001 | C4: S203BA | D4: Ancaster CE Primary PE & Sports Grant | E4: -6849 | F4: 1169 | G4: =-F4+E4 -> -8018 | H4: =IF(G4<0,G4,0) -> -8018 | I4: =IF(G4>0,G4,0) -> 0 | J4: PRIME | K4: 8496.48 | M4: 0 | O4: =G4+K4+M4 -> 478.48 | S4: =IF(O4>=0,O4,0) -> 478.48 | U4: =IF(O4<=0,O4,0) -> 0 | X4: Require details from the prime school which will have been provided with the Q1 & 2 returns adding to the evidence spreadsheet and details adding into this spreadsheet | Y4: Need to query with school as spreadsheet states P1 to P6
B5: =VLOOKUP(C5,Schools!$A$2:$C$175,2,FALSE) -> 9253154 | C5: S204BA | D5: Bardney Joint CE/Methodist (CTD) Primary PE & Sports Grant | E5: -1295 | F5: -6463 | G5: =-F5+E5 -> 5168 | H5: =IF(G5<0,G5,0) -> 0 | I5: =IF(G5>0,G5,0) -> 5168 | K5: 0 | M5: 0 | O5: =G5+K5+M5 -> 5168 | Q5: =I5+O5 -> 10336 | S5: =IF(O5>=0,O5,0) -> 5168 | U5: =IF(O5<=0,O5,0) -> 0 | W5: a | X5: Review Aug and Sept costs to determine whether 2023/24 or 2024/25 | Y5: No transactions Aug/Sept on report
B6: =VLOOKUP(C6,Schools!$A$2:$C$175,2,FALSE) -> 9255222 | C6: S205BA | D6: Barkston and Syston CE Primary PE & Sports Grant | E6: 2966.06 | F6: 2966 | G6: =-F6+E6 -> 0.06 | H6: =IF(G6<0,G6,0) -> 0 | I6: =IF(G6>0,G6,0) -> 0.06 | K6: 5379.4 | M6: 22.04 | O6: =G6+K6+M6 -> 5401.5 | Q6: =I6+O6 -> 5401.56 | S6: =IF(O6>=0,O6,0) -> 5401.5 | U6: =IF(O6<=0,O6,0) -> 0 | W6: a | X6: Review Aug and Sept costs to determine whether 2023/24 or 2024/25 | Y6: Done
B7: =VLOOKUP(C7,Schools!$A$2:$C$175,2,FALSE) -> 9253004 | C7: S206BA | D7: Barrowby CE Primary PE & Sports Grant | E7: 4985.04 | F7: 2361 | G7: =-F7+E7 -> 2624.04 | H7: =IF(G7<0,G7,0) -> 0 | I7: =IF(G7>0,G7,0) -> 2624.04 | K7: =72.42+1228.52 -> 1300.94 | M7: 524.3 | O7: =G7+K7+M7 -> 4449.28 | Q7: =I7+O7 -> 7073.32 | S7: =IF(O7>=0,O7,0) -> 4449.28 | U7: =IF(O7<=0,O7,0) -> 0 | W7: a | X7: Review Aug and Sept costs to determine whether 2023/24 or 2024/25 | Y7: Payroll split coding covers P4 to 6. Amended 13/01/25
B8: =VLOOKUP(C8,Schools!$A$2:$C$175,2,FALSE) -> 9253005 | C8: S208BA | D8: Baston CE Primary PE & Sports Grant | E8: 4729.78 | F8: 4189 | G8: =-F8+E8 -> 540.78 | H8: =IF(G8<0,G8,0) -> 0 | I8: =IF(G8>0,G8,0) -> 540.78 | K8: 880.66 | M8: 1.88 | O8: =G8+K8+M8 -> 1423.32 | Q8: =I8+O8 -> 1964.1 | S8: =IF(O8>=0,O8,0) -> 1423.32 | U8: =IF(O8<=0,O8,0) -> 0 | W8: a | X8: Review Aug and Sept costs to determine whether 2023/24 or 2024/25 | Y8: Done
B9: =VLOOKUP(C9,Schools!$A$2:$C$175,2,FALSE) -> 9252003 | C9: S209BA | D9: Billingborough Primary PE & Sports Grant | E9: -4137.01 | F9: 7364 | G9: =-F9+E9 -> -11501.01 | H9: =IF(G9<0,G9,0) -> -11501.01 | I9: =IF(G9>0,G9,0) -> 0 | K9: 600 | M9: 0 | O9: =G9+K9+M9 -> -10901.01 | S9: =IF(O9>=0,O9,0) -> 0 | U9: =IF(O9<=0,O9,0) -> -10901.01 | W9: a
B10: =VLOOKUP(C10,Schools!$A$2:$C$175,2,FALSE) -> 9253007 | C10: S210BA | D10: Billinghay CE Primary PE & Sports Grant | E10: 1194.53 | F10: -1770 | G10: =-F10+E10 -> 2964.53 | H10: =IF(G10<0,G10,0) -> 0 | I10: =IF(G10>0,G10,0) -> 2964.53 | K10: 2.39 | M10: 353.95 | O10: =G10+K10+M10 -> 3320.87 | Q10: =I10+O10 -> 6285.4 | S10: =IF(O10>=0,O10,0) -> 3320.87 | U10: =IF(O10<=0,O10,0) -> 0 | W10: a | X10: Review Aug and Sept costs to determine whether 2023/24 or 2024/25 | Y10: Done
B11: =VLOOKUP(C11,Schools!$A$2:$C$175,2,FALSE) -> 9253116 | C11: S211BA | D11: Binbrook CE Primary PE & Sports Grant | E11: -2731 | F11: -4577 | G11: =-F11+E11 -> 1846 | H11: =IF(G11<0,G11,0) -> 0 | I11: =IF(G11>0,G11,0) -> 1846 | K11: 266 | M11: 0 | O11: =G11+K11+M11 -> 2112 | Q11: =I11+O11 -> 3958 | S11: =IF(O11>=0,O11,0) -> 2112 | U11: =IF(O11<=0,O11,0) -> 0 | W11: a | X11: Review Aug and Sept costs to determine whether 2023/24 or 2024/25 20/11/2024 Agree with the £266 in column K. Are we going to correct this journal to ensure costs are correct on BA? | Y11: £266 credited to BS in error. Journal processed to correct 21/11/24
B12: =VLOOKUP(C12,Schools!$A$2:$C$175,2,FALSE) -> 9253350 | C12: S212BA | D12: Blyton Cum Laughton CE Primary PE & Sports Grant | E12: -1955.98 | F12: -5076 | G12: =-F12+E12 -> 3120.02 | H12: =IF(G12<0,G12,0) -> 0 | I12: =IF(G12>0,G12,0) -> 3120.02 | K12: 2816.11 | M12: 140.08 | O12: =G12+K12+M12 -> 6076.21 | Q12: =I12+O12 -> 9196.23 | S12: =IF(O12>=0,O12,0) -> 6076.21 | U12: =IF(O12<=0,O12,0) -> 0 | W12: a | X12: Review Aug and Sept costs to determine whether 2023/24 or 2024/25 | Y12: Done
B13: =VLOOKUP(C13,Schools!$A$2:$C$175,2,FALSE) -> 9252113 | C13: S213BA | D13: Boston Hawthorn Tree Primary PE & Sports Grant | E13: -4204.4 | F13: 292 | G13: =-F13+E13 -> -4496.4 | H13: =IF(G13<0,G13,0) -> -4496.4 | I13: =IF(G13>0,G13,0) -> 0 | K13: 0 | M13: 0 | O13: =G13+K13+M13 -> -4496.4 | S13: =IF(O13>=0,O13,0) -> 0 | U13: =IF(O13<=0,O13,0) -> -4496.4 | W13: a
B14: =VLOOKUP(C14,Schools!$A$2:$C$175,2,FALSE) -> 9253163 | C14: S218BA | D14: Brant Broughton CE/Methodist Primary PE & Sports Grant | E14: -1017 | F14: -1451 | G14: =-F14+E14 -> 434 | H14: =IF(G14<0,G14,0) -> 0 | I14: =IF(G14>0,G14,0) -> 434 | K14: 0 | M14: 0 | O14: =G14+K14+M14 -> 434 | Q14: =I14+O14 -> 868 | S14: =IF(O14>=0,O14,0) -> 434 | U14: =IF(O14<=0,O14,0) -> 0 | W14: a | X14: Review Aug and Sept costs to determine whether 2023/24 or 2024/25 | Y14: Done
B15: =VLOOKUP(C15,Schools!$A$2:$C$175,2,FALSE) -> 9252146 | C15: S220BA | D15: Bucknall Rural Villages Primary PE & Sports Grant | E15: -2801.5 | F15: 15039 | G15: =-F15+E15 -> -17840.5 | H15: =IF(G15<0,G15,0) -> -17840.5 | I15: =IF(G15>0,G15,0) -> 0 | K15: 0 | M15: 0 | O15: =G15+K15+M15 -> -17840.5 | S15: =IF(O15>=0,O15,0) -> 0 | U15: =IF(O15<=0,O15,0) -> -17840.5 | W15: a
B16: =VLOOKUP(C16,Schools!$A$2:$C$175,2,FALSE) -> 9253118 | C16: S221BA | D16: Burgh-Le-Marsh St Peter & St Paul CE Primary PE & Sports Grant | E16: -49.66 | F16: -320 | G16: =-F16+E16 -> 270.34 | H16: =IF(G16<0,G16,0) -> 0 | I16: =IF(G16>0,G16,0) -> 270.34 | K16: 1235.41 | M16: 45.98 | O16: =G16+K16+M16 -> 1551.73 | Q16: =I16+O16 -> 1822.07 | S16: =IF(O16>=0,O16,0) -> 1551.73 | U16: =IF(O16<=0,O16,0) -> 0 | W16: a | X16: Review Aug and Sept costs to determine whether 2023/24 or 2024/25 | Y16: Done
B17: =VLOOKUP(C17,Schools!$A$2:$C$175,2,FALSE) -> 9252243 | C17: S222BA | D17: Bythams Primary PE & Sports Grant | E17: -23.55 | F17: 2564 | G17: =-F17+E17 -> -2587.55 | H17: =IF(G17<0,G17,0) -> -2587.55 | I17: =IF(G17>0,G17,0) -> 0 | K17: 199.15 | M17: 0 | O17: =G17+K17+M17 -> -2388.4 | S17: =IF(O17>=0,O17,0) -> 0 | U17: =IF(O17<=0,O17,0) -> -2388.4 | W17: a | X17: August allowance is this additional hours for July? | Y17: Contractural hours
B18: =VLOOKUP(C18,Schools!$A$2:$C$175,2,FALSE) -> 9255216 | C18: S223BA | D18: Butterwick Pinchbecks Endowed CE Primary PE & Sports Grant | E18: 26.19 | F18: 4 | G18: =-F18+E18 -> 22.19 | H18: =IF(G18<0,G18,0) -> 0 | I18: =IF(G18>0,G18,0) -> 22.19 | K18: 97.78 | M18: 65.92 | O18: =G18+K18+M18 -> 185.89 | Q18: =I18+O18 -> 208.08 | S18: =IF(O18>=0,O18,0) -> 185.89 | U18: =IF(O18<=0,O18,0) -> 0 | W18: a | X18: Review Aug and Sept costs to determine whether 2023/24 or 2024/25 20/11/2024 I can't find the evidence on the Departmental report WP? Can you add a tab for the school | Y18: Added 21/11/24
B19: =VLOOKUP(C19,Schools!$A$2:$C$175,2,FALSE) -> 9253156 | C19: S224BA | D19: Caistor Joint CE/Methodist Primary PE & Sports Grant | E19: -4717.95 | F19: 1003 | G19: =-F19+E19 -> -5720.95 | H19: =IF(G19<0,G19,0) -> -5720.95 | I19: =IF(G19>0,G19,0) -> 0 | K19: 2637.04 | M19: 0 | O19: =G19+K19+M19 -> -3083.91 | S19: =IF(O19>=0,O19,0) -> 0 | U19: =IF(O19<=0,O19,0) -> -3083.91 | W19: a
B20: =VLOOKUP(C20,Schools!$A$2:$C$175,2,FALSE) -> 9253078 | C20: S228BA | D20: Claypole CE Primary PE & Sports Grant | E20: -2532.05 | F20: 5603 | G20: =-F20+E20 -> -8135.05 | H20: =IF(G20<0,G20,0) -> -8135.05 | I20: =IF(G20>0,G20,0) -> 0 | K20: 0 | M20: 0 | O20: =G20+K20+M20 -> -8135.05 | S20: =IF(O20>=0,O20,0) -> 0 | U20: =IF(O20<=0,O20,0) -> -8135.05 | W20: a
B21: =VLOOKUP(C21,Schools!$A$2:$C$175,2,FALSE) -> 9253015 | C21: S229BA | D21: Coleby CE Primary PE & Sports Grant | E21: -2170.84 | F21: 535 | G21: =-F21+E21 -> -2705.84 | H21: =IF(G21<0,G21,0) -> -2705.84 | I21: =IF(G21>0,G21,0) -> 0 | K21: 609.27 | M21: 143.44 | O21: =G21+K21+M21 -> -1953.13 | S21: =IF(O21>=0,O21,0) -> 0 | U21: =IF(O21<=0,O21,0) -> -1953.13 | W21: a | X21: August allowance is this additional hours for July? Not included apprenticeship levy for July | Y21: Additional hours. Added levy.
B22: =VLOOKUP(C22,Schools!$A$2:$C$175,2,FALSE) -> 9252013 | C22: S232BA | D22: Corby Glen Community Primary PE & Sports Grant | E22: -3724.71 | F22: -5300 | G22: =-F22+E22 -> 1575.29 | H22: =IF(G22<0,G22,0) -> 0 | I22: =IF(G22>0,G22,0) -> 1575.29 | K22: 1066.82 | M22: 0 | O22: =G22+K22+M22 -> 2642.11 | Q22: =I22+O22 -> 4217.4 | S22: =IF(O22>=0,O22,0) -> 2642.11 | U22: =IF(O22<=0,O22,0) -> 0 | W22: a | X22: Review Aug and Sept costs to determine whether 2023/24 or 2024/25 20/11/2024 Transaction 2000294849 should this be 2024/25? Transaction 2000286931 should this be 2024/25? | Y22: Corrected 21/11/24
B23: =VLOOKUP(C23,Schools!$A$2:$C$175,2,FALSE) -> 9253120 | C23: S233BA | D23: Corringham CE (CTD) Primary PE & Sports Grant | E23: 1157.62 | F23: 8745 | G23: =-F23+E23 -> -7587.38 | H23: =IF(G23<0,G23,0) -> -7587.38 | I23: =IF(G23>0,G23,0) -> 0 | K23: 8061 | M23: 0 | O23: =G23+K23+M23 -> 473.62 | Q23: =I23+O23 -> 473.62 | S23: =IF(O23>=0,O23,0) -> 473.62 | U23: =IF(O23<=0,O23,0) -> 0 | W23: a | X23: JTRS invoices have been excluded? Transaction 2000278682 was for July. Have you excluded due to the type of expenditure? Where this is the case can you include this reason on your working paper. If this is not the case then plesae review again and update | Y23: Updated
B24: =VLOOKUP(C24,Schools!$A$2:$C$175,2,FALSE) -> 9253337 | C24: S234BA | D24: Cowbit St Mary´s (Endowed) CE Primary PE & Sports Grant | E24: -2653 | F24: -952 | G24: =-F24+E24 -> -1701 | H24: =IF(G24<0,G24,0) -> -1701 | I24: =IF(G24>0,G24,0) -> 0 | K24: 1344.44 | M24: 0 | O24: =G24+K24+M24 -> -356.56 | S24: =IF(O24>=0,O24,0) -> 0 | U24: =IF(O24<=0,O24,0) -> -356.56 | W24: a
B25: =VLOOKUP(C25,Schools!$A$2:$C$175,2,FALSE) -> 9255207 | C25: S235BA | D25: Cranwell Primary PE & Sports Grant | E25: -7758 | F25: 0 | G25: =-F25+E25 -> -7758 | H25: =IF(G25<0,G25,0) -> -7758 | I25: =IF(G25>0,G25,0) -> 0 | J25: PRIME | K25: 7758 | M25: 0 | O25: =G25+K25+M25 -> 0 | S25: =IF(O25>=0,O25,0) -> 0 | U25: =IF(O25<=0,O25,0) -> 0 | W25: a | X25: Require details from the prime school which will have been provided with the Q1 & 2 returns adding to the evidence spreadsheet and details adding into this spreadsheet | Y25: Updated
B26: =VLOOKUP(C26,Schools!$A$2:$C$175,2,FALSE) -> 9252084 | C26: S236BA | D26: Crowland South View Community Primary PE & Sports Grant | E26: -8129 | F26: 6145 | G26: =-F26+E26 -> -14274 | H26: =IF(G26<0,G26,0) -> -14274 | I26: =IF(G26>0,G26,0) -> 0 | J26: PRIME | K26: 14273.91 | M26: 0 | O26: =G26+K26+M26 -> -0.09 | S26: =IF(O26>=0,O26,0) -> 0 | U26: =IF(O26<=0,O26,0) -> -0.09 | W26: a | X26: Require details from the prime school which will have been provided with the Q1 & 2 returns adding to the evidence spreadsheet and details adding into this spreadsheet | Y26: Updated
B27: =VLOOKUP(C27,Schools!$A$2:$C$175,2,FALSE) -> 9252062 | C27: S237BA | D27: Deeping St James Community Primary PE & Sports Grant | E27: 7256.12 | F27: 4735 | G27: =-F27+E27 -> 2521.12 | H27: =IF(G27<0,G27,0) -> 0 | I27: =IF(G27>0,G27,0) -> 2521.12 | K27: 1922.81 | M27: 0 | O27: =G27+K27+M27 -> 4443.93 | Q27: =I27+O27 -> 6965.05 | S27: =IF(O27>=0,O27,0) -> 4443.93 | U27: =IF(O27<=0,O27,0) -> 0 | W27: a | X27: Review Aug and Sept costs to determine whether 2023/24 or 2024/25 20/11/2024 Transaction 200273058 in the invoice number I've relaised there is a date at the start for this one its 08072024. You'll see the one above is 08092024. Do you agree? If so then the £15.94 needs to be included | Y27: Amended 21/11/24
B28: =VLOOKUP(C28,Schools!$A$2:$C$175,2,FALSE) -> 9252085 | C28: S239BA | D28: Deeping St Nicholas Primary PE & Sports Grant | E28: 589.45 | F28: 5374 | G28: =-F28+E28 -> -4784.55 | H28: =IF(G28<0,G28,0) -> -4784.55 | I28: =IF(G28>0,G28,0) -> 0 | K28: 0 | M28: 0 | O28: =G28+K28+M28 -> -4784.55 | S28: =IF(O28>=0,O28,0) -> 0 | U28: =IF(O28<=0,O28,0) -> -4784.55 | W28: a
B29: =VLOOKUP(C29,Schools!$A$2:$C$175,2,FALSE) -> 9253017 | C29: S240BA | D29: Denton CE Primary PE & Sports Grant | E29: 3611.39 | F29: 3611 | G29: =-F29+E29 -> 0.39 | H29: =IF(G29<0,G29,0) -> 0 | I29: =IF(G29>0,G29,0) -> 0.39 | K29: 1974.83 | M29: 0 | O29: =G29+K29+M29 -> 1975.22 | Q29: =I29+O29 -> 1975.61 | S29: =IF(O29>=0,O29,0) -> 1975.22 | U29: =IF(O29<=0,O29,0) -> 0 | W29: a | X29: Review Aug and Sept costs to determine whether 2023/24 or 2024/25 | Y29: Done
B30: =VLOOKUP(C30,Schools!$A$2:$C$175,2,FALSE) -> 9253018 | C30: S241BA | D30: Digby CE Primary PE & Sports Grant | E30: 66.91 | F30: 864 | G30: =-F30+E30 -> -797.09 | H30: =IF(G30<0,G30,0) -> -797.09 | I30: =IF(G30>0,G30,0) -> 0 | K30: 1827.84 | M30: 0 | O30: =G30+K30+M30 -> 1030.75 | Q30: =I30+O30 -> 1030.75 | S30: =IF(O30>=0,O30,0) -> 1030.75 | U30: =IF(O30<=0,O30,0) -> 0 | W30: a
B31: =VLOOKUP(C31,Schools!$A$2:$C$175,2,FALSE) -> 9252017 | C31: S242BA | D31: Digby The Tedder Primary PE & Sports Grant | E31: -4486 | F31: -922 | G31: =-F31+E31 -> -3564 | H31: =IF(G31<0,G31,0) -> -3564 | I31: =IF(G31>0,G31,0) -> 0 | K31: 919 | M31: 0 | O31: =G31+K31+M31 -> -2645 | S31: =IF(O31>=0,O31,0) -> 0 | U31: =IF(O31<=0,O31,0) -> -2645 | W31: a
B32: =VLOOKUP(C32,Schools!$A$2:$C$175,2,FALSE) -> 9253098 | C32: S243BA | D32: Donington Cowley Endowed Primary PE & Sports Grant | E32: 5399.43 | F32: 4714 | G32: =-F32+E32 -> 685.43 | H32: =IF(G32<0,G32,0) -> 0 | I32: =IF(G32>0,G32,0) -> 685.43 | K32: 192.5 | M32: 0 | O32: =G32+K32+M32 -> 877.93 | Q32: =I32+O32 -> 1563.36 | S32: =IF(O32>=0,O32,0) -> 877.93 | U32: =IF(O32<=0,O32,0) -> 0 | W32: a | X32: Review Aug and Sept costs to determine whether 2023/24 or 2024/25 | Y32: Done
B33: =VLOOKUP(C33,Schools!$A$2:$C$175,2,FALSE) -> 9252149 | C33: S244BA | D33: Donington-On-Bain Primary PE & Sports Grant | E33: -2396 | F33: -2560 | G33: =-F33+E33 -> 164 | H33: =IF(G33<0,G33,0) -> 0 | I33: =IF(G33>0,G33,0) -> 164 | K33: 0 | M33: 0 | O33: =G33+K33+M33 -> 164 | Q33: =I33+O33 -> 328 | S33: =IF(O33>=0,O33,0) -> 164 | U33: =IF(O33<=0,O33,0) -> 0 | W33: a | X33: Review Aug and Sept costs to determine whether 2023/24 or 2024/25 | Y33: Done
B34: =VLOOKUP(C34,Schools!$A$2:$C$175,2,FALSE) -> 9253121 | C34: S245BA | D34: Dunholme St Chad´s CE Primary PE & Sports Grant | E34: 10321.77 | F34: 9367 | G34: =-F34+E34 -> 954.77 | H34: =IF(G34<0,G34,0) -> 0 | I34: =IF(G34>0,G34,0) -> 954.77 | K34: 750 | M34: 0 | O34: =G34+K34+M34 -> 1704.77 | Q34: =I34+O34 -> 2659.54 | S34: =IF(O34>=0,O34,0) -> 1704.77 | U34: =IF(O34<=0,O34,0) -> 0 | W34: a | X34: Review Aug and Sept costs to determine whether 2023/24 or 2024/25 20/11/2024 Transaction 2000280699 why has this been excluded? | Y34: Amended 21/11/24
B35: =VLOOKUP(C35,Schools!$A$2:$C$175,2,FALSE) -> 9253021 | C35: S246BA | D35: Dunston St Peter´s CE Primary PE & Sports Grant | E35: 6199.49 | F35: 7670 | G35: =-F35+E35 -> -1470.51 | H35: =IF(G35<0,G35,0) -> -1470.51 | I35: =IF(G35>0,G35,0) -> 0 | K35: 1787.97 | M35: 0 | O35: =G35+K35+M35 -> 317.46 | Q35: =I35+O35 -> 317.46 | S35: =IF(O35>=0,O35,0) -> 317.46 | U35: =IF(O35<=0,O35,0) -> 0 | W35: a
B36: =VLOOKUP(C36,Schools!$A$2:$C$175,2,FALSE) -> 9252019 | C36: S247BA | D36: Eagle Community Primary PE & Sports Grant | E36: 4236.7 | F36: 5608 | G36: =-F36+E36 -> -1371.3 | H36: =IF(G36<0,G36,0) -> -1371.3 | I36: =IF(G36>0,G36,0) -> 0 | K36: 275 | M36: 0 | O36: =G36+K36+M36 -> -1096.3 | S36: =IF(O36>=0,O36,0) -> 0 | U36: =IF(O36<=0,O36,0) -> -1096.3 | W36: a
B37: =VLOOKUP(C37,Schools!$A$2:$C$175,2,FALSE) -> 9252151 | C37: S249BA | D37: Faldingworth Community Primary PE & Sports Grant | E37: 1079.64 | F37: -40 | G37: =-F37+E37 -> 1119.64 | H37: =IF(G37<0,G37,0) -> 0 | I37: =IF(G37>0,G37,0) -> 1119.64 | K37: 0 | M37: 0 | O37: =G37+K37+M37 -> 1119.64 | Q37: =I37+O37 -> 2239.28 | S37: =IF(O37>=0,O37,0) -> 1119.64 | U37: =IF(O37<=0,O37,0) -> 0 | W37: a | X37: Review Aug and Sept costs to determine whether 2023/24 or 2024/25 | Y37: No transactions Aug/Sept on report
B38: =VLOOKUP(C38,Schools!$A$2:$C$175,2,FALSE) -> 9253122 | C38: S250BA | D38: Fiskerton CE Primary PE & Sports Grant | E38: -6975 | F38: 0 | G38: =-F38+E38 -> -6975 | H38: =IF(G38<0,G38,0) -> -6975 | I38: =IF(G38>0,G38,0) -> 0 | J38: PRIME | K38: 0 | M38: 0 | O38: =G38+K38+M38 -> -6975 | S38: =IF(O38>=0,O38,0) -> 0 | U38: =IF(O38<=0,O38,0) -> -6975 | X38: Require details from the prime school which will have been provided with the Q1 & 2 returns adding to the evidence spreadsheet and details adding into this spreadsheet | Y38: Updated
B39: =VLOOKUP(C39,Schools!$A$2:$C$175,2,FALSE) -> 9252087 | C39: S251BA | D39: Fleet Wood Lane Primary PE & Sports Grant | E39: 3340.19 | F39: 13381 | G39: =-F39+E39 -> -10040.81 | H39: =IF(G39<0,G39,0) -> -10040.81 | I39: =IF(G39>0,G39,0) -> 0 | K39: 1389.05 | M39: 0 | O39: =G39+K39+M39 -> -8651.76 | S39: =IF(O39>=0,O39,0) -> 0 | U39: =IF(O39<=0,O39,0) -> -8651.76 | W39: a
B40: =VLOOKUP(C40,Schools!$A$2:$C$175,2,FALSE) -> 9252100 | C40: S254BA | D40: Fulstow Primary PE & Sports Grant | E40: 114.63 | F40: -2081 | G40: =-F40+E40 -> 2195.63 | H40: =IF(G40<0,G40,0) -> 0 | I40: =IF(G40>0,G40,0) -> 2195.63 | K40: 589.1 | M40: 0 | O40: =G40+K40+M40 -> 2784.73 | Q40: =I40+O40 -> 4980.36 | S40: =IF(O40>=0,O40,0) -> 2784.73 | U40: =IF(O40<=0,O40,0) -> 0 | W40: a | X40: Review Aug and Sept costs to determine whether 2023/24 or 2024/25 | Y40: Done
...

Sheet Schools
A1: CC | B1: DFE | C1: NAME
A2: S100BA | B2: 9251012 | C2: Boston Nursery School
A3: S110BA | B3: 9251011 | C3: Gainsborough Nursery School
A4: S120BA | B4: 9251001 | C4: Grantham Wyndham Park Nursery School
A5: S130BA | B5: 9251010 | C5: Lincoln Kingsdown Nursery School
A6: S140BA | B6: 9251005 | C6: Lincoln Saint Giles Nursery
A7: S200BA | B7: 9252142 | C7: Alford Primary School
A8: S201BA | B8: 9253000 | C8: Allington with Sedgebrook Church of England Primary
A9: S203BA | B9: 9253001 | C9: Ancaster Church of England Primary School
A10: S204BA | B10: 9253154 | C10: Bardney Church of England & Methodist Primary School
A11: S205BA | B11: 9255222 | C11: Barkston & Syston Church of England Primary School
A12: S206BA | B12: 9253004 | C12: Barrowby Church of England Primary School
A13: S208BA | B13: 9253005 | C13: Baston Church of England Primary School
... A175: S612BA | B175: 9257032 | C175: Lincoln The Athena School
